BEGIN:VCALENDAR
VERSION:2.0
PRODID:-//stgabrielchurch.org//eCatholic//EN
X-WR-TIMEZONE:LocalTZ
BEGIN:VTIMEZONE
TZID:LocalTZ
X-LIC-LOCATION:LocalTZ
BEGIN:DAYLIGHT
TZOFFSETFROM:-0500
TZOFFSETTO:-0400
TZNAME:LocalTZ
DTSTART:19700308T020000
RRULE:FREQ=YEARLY;BYMONTH=3;BYDAY=2SU
END:DAYLIGHT
BEGIN:STANDARD
TZOFFSETFROM:-0400
TZOFFSETTO:-0500
TZNAME:LocalTZ
DTSTART:19701101T020000
RRULE:FREQ=YEARLY;BYMONTH=11;BYDAY=1SU
END:STANDARD
END:VTIMEZONE
BEGIN:VEVENT
UID:3065516@stgabrielchurch.org
DTSTAMP:20260420T161708Z
DTSTART:20260712T100000
DTEND:20260712T110000
SUMMARY:OCIA Interest Meeting - Becoming Catholic
DESCRIPTION:Join us for coffee and donuts and learn about our process for 
 becoming Catholic or receiving sacraments\, as an adult. Offered in Englis
 h and Spanish. Learn more here.
END:VEVENT
BEGIN:VEVENT
UID:3065513@stgabrielchurch.org
DTSTAMP:20260420T161708Z
DTSTART:20260824T190000
DTEND:20260824T203000
SUMMARY:OCIA Interest Meeting - Becoming Catholic
DESCRIPTION:Learn about our process for becoming Catholic or receiving sac
 raments\, as an adult. Offered in English and Spanish. Learn more here.
END:VEVENT
END:VCALENDAR
